BEGIN:VCALENDAR
PRODID:Nexudus
VERSION:2.0
BEGIN:VTIMEZONE
TZID:Asia/Singapore
X-LIC-LOCATION:Asia/Singapore
BEGIN:STANDARD
DTSTART:19820101T010000
RRULE:FREQ=YEARLY;BYDAY=1FR;BYMONTH=1
TZNAME:+08
TZOFFSETFROM:+0900
TZOFFSETTO:+0800
END:STANDARD
END:VTIMEZONE
BEGIN:VEVENT
DESCRIPTION:\nEvent link: https://Hubud.spaces.nexudus.com/en/events/view/1
 138187056/branding-and-strategic-communication\n
DTEND;TZID=Asia/Singapore:20190904T183000
DTSTAMP:20260422T222251Z
DTSTART;TZID=Asia/Singapore:20190904T173000
LOCATION:Hubud
SEQUENCE:0
SUMMARY:Branding and Strategic Communication
UID:ccc30067-9412-4c87-bcea-67930ab2214a
END:VEVENT
END:VCALENDAR
