BEGIN:VCALENDAR
PRODID:Nexudus
VERSION:2.0
BEGIN:VTIMEZONE
TZID:Asia/Singapore
X-LIC-LOCATION:Asia/Singapore
BEGIN:STANDARD
DTSTART:19820101T010000
RRULE:FREQ=YEARLY;BYDAY=1FR;BYMONTH=1
TZNAME:+08
TZOFFSETFROM:+0900
TZOFFSETTO:+0800
END:STANDARD
END:VTIMEZONE
BEGIN:VEVENT
DESCRIPTION:\nEvent link: https://Hubud.spaces.nexudus.com/en/events/view/1
 176757611/developing-your-brand-identity\n
DTEND;TZID=Asia/Singapore:20191022T190000
DTSTAMP:20260422T221659Z
DTSTART;TZID=Asia/Singapore:20191022T173000
LOCATION:Hubud
SEQUENCE:0
SUMMARY:Developing your Brand Identity
UID:923c49af-5c7e-4ff4-b407-b26bd75ea6ce
END:VEVENT
END:VCALENDAR
