BEGIN:VCALENDAR
PRODID:Nexudus
VERSION:2.0
BEGIN:VTIMEZONE
TZID:Asia/Singapore
X-LIC-LOCATION:Asia/Singapore
BEGIN:STANDARD
DTSTART:19820101T010000
RRULE:FREQ=YEARLY;BYDAY=1FR;BYMONTH=1
TZNAME:+08
TZOFFSETFROM:+0900
TZOFFSETTO:+0800
END:STANDARD
END:VTIMEZONE
BEGIN:VEVENT
DESCRIPTION:\nEvent link: https://Hubud.spaces.nexudus.com/en/events/view/1
 180277099/impact-evaluation-for-gos-and-ngos\n
DTEND;TZID=Asia/Singapore:20191029T183000
DTSTAMP:20260422T222247Z
DTSTART;TZID=Asia/Singapore:20191029T173000
LOCATION:Hubud
SEQUENCE:0
SUMMARY:Impact Evaluation for GOs and NGOs
UID:2de9dbae-1f29-41a7-a37e-5b5c490dabc1
END:VEVENT
END:VCALENDAR
