BEGIN:VCALENDAR
PRODID:Nexudus
VERSION:2.0
BEGIN:VTIMEZONE
TZID:Asia/Singapore
X-LIC-LOCATION:Asia/Singapore
BEGIN:STANDARD
DTSTART:19820101T010000
RRULE:FREQ=YEARLY;BYDAY=1FR;BYMONTH=1
TZNAME:+08
TZOFFSETFROM:+0900
TZOFFSETTO:+0800
END:STANDARD
END:VTIMEZONE
BEGIN:VEVENT
DESCRIPTION:\nEvent link: https://Hubud.spaces.nexudus.com/en/events/view/1
 183272108/investing-for-dummies\n
DTEND;TZID=Asia/Singapore:20191030T183000
DTSTAMP:20260423T011310Z
DTSTART;TZID=Asia/Singapore:20191030T173000
LOCATION:Hubud
SEQUENCE:0
SUMMARY:Investing for Dummies
UID:1f747b1e-7886-49e8-9807-3923bb1d4d14
END:VEVENT
END:VCALENDAR
