BEGIN:VCALENDAR
PRODID:Nexudus
VERSION:2.0
BEGIN:VTIMEZONE
TZID:Asia/Singapore
X-LIC-LOCATION:Asia/Singapore
BEGIN:STANDARD
DTSTART:19820101T010000
RRULE:FREQ=YEARLY;BYDAY=1FR;BYMONTH=1
TZNAME:+08
TZOFFSETFROM:+0900
TZOFFSETTO:+0800
END:STANDARD
END:VTIMEZONE
BEGIN:VEVENT
DESCRIPTION:\nEvent link: https://Hubud.spaces.nexudus.com/en/events/view/1
 192691548/how-to-write-anything\n
DTEND;TZID=Asia/Singapore:20191114T183000
DTSTAMP:20260423T005908Z
DTSTART;TZID=Asia/Singapore:20191114T173000
LOCATION:Hubud
SEQUENCE:0
SUMMARY:How to Write Anything
UID:1e5c3c65-fb07-48a8-bfe4-6a601d6a3594
END:VEVENT
END:VCALENDAR
