BEGIN:VCALENDAR
PRODID:Nexudus
VERSION:2.0
BEGIN:VTIMEZONE
TZID:Asia/Singapore
X-LIC-LOCATION:Asia/Singapore
BEGIN:STANDARD
DTSTART:19820101T010000
RRULE:FREQ=YEARLY;BYDAY=1FR;BYMONTH=1
TZNAME:+08
TZOFFSETFROM:+0900
TZOFFSETTO:+0800
END:STANDARD
END:VTIMEZONE
BEGIN:VEVENT
DESCRIPTION:\nEvent link: https://Hubud.spaces.nexudus.com/en/events/view/1
 196217110/how-to-write-and-publish-a-book-in-90-days\n
DTEND;TZID=Asia/Singapore:20191112T183000
DTSTAMP:20260422T222222Z
DTSTART;TZID=Asia/Singapore:20191126T173000
LOCATION:Hubud
SEQUENCE:0
SUMMARY:How To Write and Publish a Book In 90 Days
UID:7b45561a-4869-4239-8fe9-01d600706e4f
END:VEVENT
END:VCALENDAR
