BEGIN:VCALENDAR
PRODID:Nexudus
VERSION:2.0
BEGIN:VTIMEZONE
TZID:Asia/Singapore
X-LIC-LOCATION:Asia/Singapore
BEGIN:STANDARD
DTSTART:19820101T010000
RRULE:FREQ=YEARLY;BYDAY=1FR;BYMONTH=1
TZNAME:+08
TZOFFSETFROM:+0900
TZOFFSETTO:+0800
END:STANDARD
END:VTIMEZONE
BEGIN:VEVENT
DESCRIPTION:\nEvent link: https://Hubud.spaces.nexudus.com/en/events/view/1
 204099973/affiliate-marketing-in-a-nutshell\n
DTEND;TZID=Asia/Singapore:20191128T183000
DTSTAMP:20260422T222341Z
DTSTART;TZID=Asia/Singapore:20191128T173000
LOCATION:Hubud
SEQUENCE:0
SUMMARY:Affiliate Marketing in a Nutshell
UID:3618141d-24d8-443d-8fba-b7be98c718a9
END:VEVENT
END:VCALENDAR
