BEGIN:VCALENDAR
PRODID:Nexudus
VERSION:2.0
BEGIN:VTIMEZONE
TZID:Asia/Singapore
X-LIC-LOCATION:Asia/Singapore
BEGIN:STANDARD
DTSTART:19820101T010000
RRULE:FREQ=YEARLY;BYDAY=1FR;BYMONTH=1
TZNAME:+08
TZOFFSETFROM:+0900
TZOFFSETTO:+0800
END:STANDARD
END:VTIMEZONE
BEGIN:VEVENT
DESCRIPTION:\nEvent link: https://Hubud.spaces.nexudus.com/en/events/view/1
 222392712/the-game-changer\n
DTEND;TZID=Asia/Singapore:20200107T183000
DTSTAMP:20260422T221704Z
DTSTART;TZID=Asia/Singapore:20200107T173000
LOCATION:Hubud
SEQUENCE:0
SUMMARY:The Game Changer
UID:cad0ad12-3b37-4ccd-8c63-a49a2585d18c
END:VEVENT
END:VCALENDAR
