BEGIN:VCALENDAR
PRODID:Nexudus
VERSION:2.0
BEGIN:VTIMEZONE
TZID:Asia/Singapore
X-LIC-LOCATION:Asia/Singapore
BEGIN:STANDARD
DTSTART:19820101T010000
RRULE:FREQ=YEARLY;BYDAY=1FR;BYMONTH=1
TZNAME:+08
TZOFFSETFROM:+0900
TZOFFSETTO:+0800
END:STANDARD
END:VTIMEZONE
BEGIN:VEVENT
DESCRIPTION:\nEvent link: https://Hubud.spaces.nexudus.com/en/events/view/1
 222392883/no-ads--no-website--no-email-list-\n
DTEND;TZID=Asia/Singapore:20200128T183000
DTSTAMP:20260422T222120Z
DTSTART;TZID=Asia/Singapore:20200128T173000
LOCATION:Hubud
SEQUENCE:0
SUMMARY:NO ads\, NO website\, NO email list!
UID:a93bf4e5-09bf-4e4c-a645-cfd0a0280f06
END:VEVENT
END:VCALENDAR
