BEGIN:VCALENDAR
PRODID:Nexudus
VERSION:2.0
BEGIN:VTIMEZONE
TZID:Asia/Singapore
X-LIC-LOCATION:Asia/Singapore
BEGIN:STANDARD
DTSTART:19820101T010000
RRULE:FREQ=YEARLY;BYDAY=1FR;BYMONTH=1
TZNAME:+08
TZOFFSETFROM:+0900
TZOFFSETTO:+0800
END:STANDARD
END:VTIMEZONE
BEGIN:VEVENT
DESCRIPTION:\nEvent link: https://Hubud.spaces.nexudus.com/en/events/view/1
 237770640/how-food-boosts-your-performance\n
DTEND;TZID=Asia/Singapore:20200204T183000
DTSTAMP:20260422T222212Z
DTSTART;TZID=Asia/Singapore:20200204T173000
LOCATION:Hubud
SEQUENCE:0
SUMMARY:How Food Boosts Your Performance
UID:da416d09-c50f-4e9c-bc7f-bb7131629439
END:VEVENT
END:VCALENDAR
