BEGIN:VCALENDAR
PRODID:Nexudus
VERSION:2.0
BEGIN:VTIMEZONE
TZID:Asia/Singapore
X-LIC-LOCATION:Asia/Singapore
BEGIN:STANDARD
DTSTART:19820101T010000
RRULE:FREQ=YEARLY;BYDAY=1FR;BYMONTH=1
TZNAME:+08
TZOFFSETFROM:+0900
TZOFFSETTO:+0800
END:STANDARD
END:VTIMEZONE
BEGIN:VEVENT
DESCRIPTION:This event is for members only. Find out more about membership 
 (including Events Only membership) at https://www.hubud.org/join/\n\nQuinn
 tin Ruiz and Mason Lantay is the founder of Journey.\n\nJourney is a lifes
 tyle company that teaches at the center of coding art and spirituality. Ou
 r first course will be a 6-week curriculum for college students to take du
 ring the school year that will teach them all the essential skills to be a
  freelance developer. The long-run vision is to then invite those students
  to Ubud to give them a more holistic experience of how to live their live
 s and make a living at the same time during the summer. \n\nHere's what we
  are going to discuss\;\n- Will college students want to buy a $500 produc
 t before the school year begins? \n- Which marketing segment and message w
 ill appeal to college students the most\n- Is the product is differentiate
 d enough in a crowded market space? Is it positioned well?\n- Can we creat
 e an entire course worth $1\,000 in 3 months? \n\nThey would love to hear 
 some feedback around\;\nGo-to-market strategy and product development.\nEv
 ent link: https://Hubud.spaces.nexudus.com/en/events/view/620430837/entrep
 reneurial-think-thank--journey--practical-coding-\n
DTEND;TZID=Asia/Singapore:20180530T133000
DTSTAMP:20260423T103645Z
DTSTART;TZID=Asia/Singapore:20180530T123000
LOCATION:Hubud
SEQUENCE:0
SUMMARY:Entrepreneurial Think Thank: Journey [Practical Coding]
UID:ba656795-1d64-4400-83fe-052798f17a51
END:VEVENT
END:VCALENDAR
