BEGIN:VCALENDAR
PRODID:Nexudus
VERSION:2.0
BEGIN:VTIMEZONE
TZID:Asia/Singapore
X-LIC-LOCATION:Asia/Singapore
BEGIN:STANDARD
DTSTART:19820101T010000
RRULE:FREQ=YEARLY;BYDAY=1FR;BYMONTH=1
TZNAME:+08
TZOFFSETFROM:+0900
TZOFFSETTO:+0800
END:STANDARD
END:VTIMEZONE
BEGIN:VEVENT
DESCRIPTION:\nEvent link: https://Hubud.spaces.nexudus.com/en/events/view/6
 39481905/hubud-movie-night\n
DTEND;TZID=Asia/Singapore:20180924T210000
DTSTAMP:20260423T082500Z
DTSTART;TZID=Asia/Singapore:20180924T190000
LOCATION:Hubud
SEQUENCE:0
SUMMARY:Hubud Movie Night
UID:bb2c0c70-5351-4521-890a-f346d1b4a0a5
END:VEVENT
END:VCALENDAR
