BEGIN:VCALENDAR
PRODID:Nexudus
VERSION:2.0
BEGIN:VTIMEZONE
TZID:Asia/Singapore
X-LIC-LOCATION:Asia/Singapore
BEGIN:STANDARD
DTSTART:19820101T010000
RRULE:FREQ=YEARLY;BYDAY=1FR;BYMONTH=1
TZNAME:+08
TZOFFSETFROM:+0900
TZOFFSETTO:+0800
END:STANDARD
END:VTIMEZONE
BEGIN:VEVENT
DESCRIPTION:This event is FREE and open to the public\, bring your friends!
 \n\nBoard games lovers... This is YOUR evening!\nThank to Louisa\, we'll h
 ave:\n- One Night Ultimate Werewolf\n- Codenames\n- Secret Hitler\n\nFeel 
 free to bring your own board game if you have one!\n\nJoin us to chill\, h
 ave fun and play amazing board games with the most incredible community of
  Digital Nomads!\nEvent link: https://Hubud.spaces.nexudus.com/en/events/v
 iew/657931420/hubud-social-hour--board-games-session\n
DTEND;TZID=Asia/Singapore:20180727T210000
DTSTAMP:20260423T144347Z
DTSTART;TZID=Asia/Singapore:20180727T180000
LOCATION:Hubud
SEQUENCE:0
SUMMARY:Hubud Social Hour: Board Games Session
UID:95eeea27-c351-4f6b-9dad-b55c37fe1766
END:VEVENT
END:VCALENDAR
