BEGIN:VCALENDAR
PRODID:Nexudus
VERSION:2.0
BEGIN:VTIMEZONE
TZID:Asia/Singapore
X-LIC-LOCATION:Asia/Singapore
BEGIN:STANDARD
DTSTART:19820101T010000
RRULE:FREQ=YEARLY;BYDAY=1FR;BYMONTH=1
TZNAME:+08
TZOFFSETFROM:+0900
TZOFFSETTO:+0800
END:STANDARD
END:VTIMEZONE
BEGIN:VEVENT
DESCRIPTION:\nEvent link: https://Hubud.spaces.nexudus.com/en/events/view/6
 76500916/hubud-s-indonesian-day\n
DTEND;TZID=Asia/Singapore:20180817T210000
DTSTAMP:20260423T131734Z
DTSTART;TZID=Asia/Singapore:20180817T160000
LOCATION:Hubud
SEQUENCE:0
SUMMARY:Hubud's Indonesian Day
UID:99c7251f-8f8a-4f17-b192-7c0f59333030
END:VEVENT
END:VCALENDAR
