BEGIN:VCALENDAR
PRODID:Nexudus
VERSION:2.0
BEGIN:VTIMEZONE
TZID:Asia/Singapore
X-LIC-LOCATION:Asia/Singapore
BEGIN:STANDARD
DTSTART:19820101T010000
RRULE:FREQ=YEARLY;BYDAY=1FR;BYMONTH=1
TZNAME:+08
TZOFFSETFROM:+0900
TZOFFSETTO:+0800
END:STANDARD
END:VTIMEZONE
BEGIN:VEVENT
DESCRIPTION:This event is for members only. Find out more about membership 
 (including Events Only membership) at https://www.hubud.org/join/\n\nAre y
 ou struggling to learn a foreign language? During this event Sara Maria wi
 ll explain how linguists learn languages quickly and efficiently\, breakin
 g down important strategies\, providing effective resources\, and dispelli
 ng a few myths about language learning. \n\nWhat you will learn:\n- What l
 inguists know that you don’t\n- How to design your optimal language-lear
 ning regimen\n- How to find free and affordable language-learning resource
 s that actually work\n- How to stay motivated\n- Which languages are the e
 asiest\, the hardest\, and the most rewarding!\n\nAbout the speaker:\nBorn
  a monolingual American\, Sara Maria struggled with high school Spanish. S
 he now speaks Spanish\, French\, Mandarin\, American Sign Language\, Nicar
 aguan Sign Language\, and Korean\, and can get by in Russian\, Arabic\, Vi
 etnamese\, Thai\, Cantonese\, and Indonesian. After freelancing as a trans
 lator and interpreter (including simultaneous interpretation at the United
  Nations and the translations of two published books) she started Meridian
  Linguistics\, a linguistics consulting firm employing over 2\,000 freelan
 ce translators and serving companies like The Economist and Airbnb. Sara M
 aria received her BA in Psycholinguistics at Columbia University\, and was
  a PhD candidate at New York University before leaving to start her own co
 mpany.\nEvent link: https://Hubud.spaces.nexudus.com/en/events/view/679903
 511/skill-share--learn-languages-like-a-linguist\n
DTEND;TZID=Asia/Singapore:20180827T133000
DTSTAMP:20260423T042759Z
DTSTART;TZID=Asia/Singapore:20180827T123000
LOCATION:Hubud
SEQUENCE:0
SUMMARY:Skill Share: Learn Languages Like a Linguist
UID:340d8e04-92c1-42d4-a6a3-14f08915bb6a
END:VEVENT
END:VCALENDAR
