BEGIN:VCALENDAR
PRODID:Nexudus
VERSION:2.0
BEGIN:VTIMEZONE
TZID:Asia/Singapore
X-LIC-LOCATION:Asia/Singapore
BEGIN:STANDARD
DTSTART:19820101T010000
RRULE:FREQ=YEARLY;BYDAY=1FR;BYMONTH=1
TZNAME:+08
TZOFFSETFROM:+0900
TZOFFSETTO:+0800
END:STANDARD
END:VTIMEZONE
BEGIN:VEVENT
DESCRIPTION:\nEvent link: https://Hubud.spaces.nexudus.com/en/events/view/6
 89030422/skill-share--mindfulness-at-work\n
DTEND;TZID=Asia/Singapore:20180906T133000
DTSTAMP:20260423T005833Z
DTSTART;TZID=Asia/Singapore:20180906T123000
LOCATION:Hubud
SEQUENCE:0
SUMMARY:Skill Share: Mindfulness at Work
UID:c75adbc6-539a-4714-a0f4-2522f08a1c7f
END:VEVENT
END:VCALENDAR
