BEGIN:VCALENDAR
PRODID:Nexudus
VERSION:2.0
BEGIN:VTIMEZONE
TZID:Asia/Singapore
X-LIC-LOCATION:Asia/Singapore
BEGIN:STANDARD
DTSTART:19820101T010000
RRULE:FREQ=YEARLY;BYDAY=1FR;BYMONTH=1
TZNAME:+08
TZOFFSETFROM:+0900
TZOFFSETTO:+0800
END:STANDARD
END:VTIMEZONE
BEGIN:VEVENT
DESCRIPTION:\nEvent link: https://Hubud.spaces.nexudus.com/en/events/view/7
 08559857/hubud-s-lunch-out-at-kebun-bistro\n
DTEND;TZID=Asia/Singapore:20180921T143000
DTSTAMP:20260423T115412Z
DTSTART;TZID=Asia/Singapore:20180921T123000
LOCATION:Hubud
SEQUENCE:0
SUMMARY:Hubud's Lunch out at Kebun Bistro
UID:74a0fb18-d922-4b33-b42f-4daaa9de5a24
END:VEVENT
END:VCALENDAR
