BEGIN:VCALENDAR
PRODID:Nexudus
VERSION:2.0
BEGIN:VTIMEZONE
TZID:Asia/Singapore
X-LIC-LOCATION:Asia/Singapore
BEGIN:STANDARD
DTSTART:19820101T010000
RRULE:FREQ=YEARLY;BYDAY=1FR;BYMONTH=1
TZNAME:+08
TZOFFSETFROM:+0900
TZOFFSETTO:+0800
END:STANDARD
END:VTIMEZONE
BEGIN:VEVENT
DESCRIPTION:\nEvent link: https://Hubud.spaces.nexudus.com/en/events/view/7
 43863120/entrepreneurial-think-thank--duara-travels\n
DTEND;TZID=Asia/Singapore:20181030T133000
DTSTAMP:20260423T070405Z
DTSTART;TZID=Asia/Singapore:20181030T123000
LOCATION:Hubud
SEQUENCE:0
SUMMARY:Entrepreneurial Think Thank: Duara Travels
UID:720ab49e-4876-4719-a45a-c4b9c374027b
END:VEVENT
END:VCALENDAR
