BEGIN:VCALENDAR
PRODID:Nexudus
VERSION:2.0
BEGIN:VTIMEZONE
TZID:Asia/Singapore
X-LIC-LOCATION:Asia/Singapore
BEGIN:STANDARD
DTSTART:19820101T010000
RRULE:FREQ=YEARLY;BYDAY=1FR;BYMONTH=1
TZNAME:+08
TZOFFSETFROM:+0900
TZOFFSETTO:+0800
END:STANDARD
END:VTIMEZONE
BEGIN:VEVENT
DESCRIPTION:\nEvent link: https://Hubud.spaces.nexudus.com/en/events/view/7
 45013315/hubud-social-hour-at-maha\n
DTEND;TZID=Asia/Singapore:20181026T220000
DTSTAMP:20260425T112555Z
DTSTART;TZID=Asia/Singapore:20181102T190000
LOCATION:Hubud
SEQUENCE:0
SUMMARY:Hubud Social Hour at Maha
UID:c1a5ae3f-1cf6-4d94-afc5-9088767b141b
END:VEVENT
END:VCALENDAR
