BEGIN:VCALENDAR
PRODID:Nexudus
VERSION:2.0
BEGIN:VTIMEZONE
TZID:Asia/Singapore
X-LIC-LOCATION:Asia/Singapore
BEGIN:STANDARD
DTSTART:19820101T010000
RRULE:FREQ=YEARLY;BYDAY=1FR;BYMONTH=1
TZNAME:+08
TZOFFSETFROM:+0900
TZOFFSETTO:+0800
END:STANDARD
END:VTIMEZONE
BEGIN:VEVENT
DESCRIPTION:\nEvent link: https://Hubud.spaces.nexudus.com/en/events/view/7
 49599429/hubud-social-hour--karaoke-night\n
DTEND;TZID=Asia/Singapore:20181109T220000
DTSTAMP:20260425T114232Z
DTSTART;TZID=Asia/Singapore:20181109T190000
LOCATION:Hubud
SEQUENCE:0
SUMMARY: Hubud Social Hour: Karaoke Night
UID:c2cef693-6d18-4209-97bb-f86a87b34360
END:VEVENT
END:VCALENDAR
