BEGIN:VCALENDAR
PRODID:Nexudus
VERSION:2.0
BEGIN:VTIMEZONE
TZID:Asia/Singapore
X-LIC-LOCATION:Asia/Singapore
BEGIN:STANDARD
DTSTART:19820101T010000
RRULE:FREQ=YEARLY;BYDAY=1FR;BYMONTH=1
TZNAME:+08
TZOFFSETFROM:+0900
TZOFFSETTO:+0800
END:STANDARD
END:VTIMEZONE
BEGIN:VEVENT
DESCRIPTION:\nEvent link: https://Hubud.spaces.nexudus.com/en/events/view/7
 59505771/hubud-social-hour--dinner-at-hubud\n
DTEND;TZID=Asia/Singapore:20181112T200000
DTSTAMP:20260425T112446Z
DTSTART;TZID=Asia/Singapore:20181112T190000
LOCATION:Hubud
SEQUENCE:0
SUMMARY:Hubud Social Hour: Dinner at Hubud
UID:7f264f0d-3e3b-4140-acf2-9422185bca63
END:VEVENT
END:VCALENDAR
