BEGIN:VCALENDAR
PRODID:Nexudus
VERSION:2.0
BEGIN:VTIMEZONE
TZID:Asia/Singapore
X-LIC-LOCATION:Asia/Singapore
BEGIN:STANDARD
DTSTART:19820101T010000
RRULE:FREQ=YEARLY;BYDAY=1FR;BYMONTH=1
TZNAME:+08
TZOFFSETFROM:+0900
TZOFFSETTO:+0800
END:STANDARD
END:VTIMEZONE
BEGIN:VEVENT
DESCRIPTION:\nEvent link: https://Hubud.spaces.nexudus.com/en/events/view/7
 80827057/bali-bungkus--become-an-entrepreneur-with-productized-services\n
DTEND;TZID=Asia/Singapore:20181211T133000
DTSTAMP:20260423T012726Z
DTSTART;TZID=Asia/Singapore:20181211T123000
LOCATION:Hubud
SEQUENCE:0
SUMMARY:Bali Bungkus: Become An Entrepreneur With Productized Services 
UID:0db4096e-943d-4584-814d-e4c7c7933c32
END:VEVENT
END:VCALENDAR
