BEGIN:VCALENDAR
PRODID:Nexudus
VERSION:2.0
BEGIN:VTIMEZONE
TZID:Asia/Singapore
X-LIC-LOCATION:Asia/Singapore
BEGIN:STANDARD
DTSTART:19820101T010000
RRULE:FREQ=YEARLY;BYDAY=1FR;BYMONTH=1
TZNAME:+08
TZOFFSETFROM:+0900
TZOFFSETTO:+0800
END:STANDARD
END:VTIMEZONE
BEGIN:VEVENT
DESCRIPTION:\nEvent link: https://Hubud.spaces.nexudus.com/en/events/view/8
 18547870/social-hour--dinner-at-hubud\n
DTEND;TZID=Asia/Singapore:20190204T200000
DTSTAMP:20260423T055214Z
DTSTART;TZID=Asia/Singapore:20190204T190000
LOCATION:Hubud
SEQUENCE:0
SUMMARY:Social Hour: Dinner at Hubud
UID:ff930ab6-52f6-4c6c-9820-45d8f62a1aa8
END:VEVENT
END:VCALENDAR
