BEGIN:VCALENDAR
PRODID:Nexudus
VERSION:2.0
BEGIN:VTIMEZONE
TZID:Asia/Singapore
X-LIC-LOCATION:Asia/Singapore
BEGIN:STANDARD
DTSTART:19820101T010000
RRULE:FREQ=YEARLY;BYDAY=1FR;BYMONTH=1
TZNAME:+08
TZOFFSETFROM:+0900
TZOFFSETTO:+0800
END:STANDARD
END:VTIMEZONE
BEGIN:VEVENT
DESCRIPTION:\nEvent link: https://Hubud.spaces.nexudus.com/en/events/view/8
 21684876/treat-yourself-thursday--yoga-at-hubud\n
DTEND;TZID=Asia/Singapore:20190131T170000
DTSTAMP:20260422T222116Z
DTSTART;TZID=Asia/Singapore:20190131T160000
LOCATION:Hubud
SEQUENCE:0
SUMMARY:Treat Yourself Thursday: Yoga at Hubud
UID:04efd02f-1e16-41a2-bb0d-c79fbb5f9b28
END:VEVENT
END:VCALENDAR
