BEGIN:VCALENDAR
PRODID:Nexudus
VERSION:2.0
BEGIN:VTIMEZONE
TZID:Asia/Singapore
X-LIC-LOCATION:Asia/Singapore
BEGIN:STANDARD
DTSTART:19820101T010000
RRULE:FREQ=YEARLY;BYDAY=1FR;BYMONTH=1
TZNAME:+08
TZOFFSETFROM:+0900
TZOFFSETTO:+0800
END:STANDARD
END:VTIMEZONE
BEGIN:VEVENT
DESCRIPTION:\nEvent link: https://Hubud.spaces.nexudus.com/en/events/view/8
 21684877/treat-yourself-thursday--slowing-down-to-speed-up\n
DTEND;TZID=Asia/Singapore:20190207T170000
DTSTAMP:20260422T222122Z
DTSTART;TZID=Asia/Singapore:20190207T160000
LOCATION:Hubud
SEQUENCE:0
SUMMARY:Treat Yourself Thursday: Slowing Down to Speed Up
UID:4845e684-3dac-4944-88a1-7fdf6d735776
END:VEVENT
END:VCALENDAR
