BEGIN:VCALENDAR
PRODID:Nexudus
VERSION:2.0
BEGIN:VTIMEZONE
TZID:Asia/Singapore
X-LIC-LOCATION:Asia/Singapore
BEGIN:STANDARD
DTSTART:19820101T010000
RRULE:FREQ=YEARLY;BYDAY=1FR;BYMONTH=1
TZNAME:+08
TZOFFSETFROM:+0900
TZOFFSETTO:+0800
END:STANDARD
END:VTIMEZONE
BEGIN:VEVENT
DESCRIPTION:\nEvent link: https://Hubud.spaces.nexudus.com/en/events/view/8
 21684878/treat-yourself-thursday--heart-opening-yoga---meditation\n
DTEND;TZID=Asia/Singapore:20190214T170000
DTSTAMP:20260422T222217Z
DTSTART;TZID=Asia/Singapore:20190214T160000
LOCATION:Hubud
SEQUENCE:0
SUMMARY:Treat Yourself Thursday: Heart Opening Yoga & Meditation
UID:fcba98e2-abdc-48d2-8654-e683c0fbe685
END:VEVENT
END:VCALENDAR
