BEGIN:VCALENDAR
PRODID:Nexudus
VERSION:2.0
BEGIN:VTIMEZONE
TZID:Asia/Singapore
X-LIC-LOCATION:Asia/Singapore
BEGIN:STANDARD
DTSTART:19820101T010000
RRULE:FREQ=YEARLY;BYDAY=1FR;BYMONTH=1
TZNAME:+08
TZOFFSETFROM:+0900
TZOFFSETTO:+0800
END:STANDARD
END:VTIMEZONE
BEGIN:VEVENT
DESCRIPTION:\nEvent link: https://Hubud.spaces.nexudus.com/en/events/view/9
 34335402/skill-share--spanish-conversation-café\n
DTEND;TZID=Asia/Singapore:20190306T133000
DTSTAMP:20260422T222118Z
DTSTART;TZID=Asia/Singapore:20190306T123000
LOCATION:Hubud
SEQUENCE:0
SUMMARY:Skill Share: Spanish Conversation Café
UID:950a12f2-a93c-4c99-b9e0-549e5bef2e3c
END:VEVENT
END:VCALENDAR
