BEGIN:VCALENDAR
PRODID:Nexudus
VERSION:2.0
BEGIN:VTIMEZONE
TZID:Asia/Singapore
X-LIC-LOCATION:Asia/Singapore
BEGIN:STANDARD
DTSTART:19820101T010000
RRULE:FREQ=YEARLY;BYDAY=1FR;BYMONTH=1
TZNAME:+08
TZOFFSETFROM:+0900
TZOFFSETTO:+0800
END:STANDARD
END:VTIMEZONE
BEGIN:VEVENT
DESCRIPTION:\nEvent link: https://Hubud.spaces.nexudus.com/en/events/view/9
 47399454/skill-share--taxes-for-digital-nomads\n
DTEND;TZID=Asia/Singapore:20190409T183000
DTSTAMP:20260423T030832Z
DTSTART;TZID=Asia/Singapore:20190409T173000
LOCATION:Hubud
SEQUENCE:0
SUMMARY:Skill Share: Taxes for Digital Nomads
UID:aca2ad40-5fa0-4a2a-807a-73a6ab6a9b1f
END:VEVENT
END:VCALENDAR
