BEGIN:VCALENDAR
PRODID:Nexudus
VERSION:2.0
BEGIN:VTIMEZONE
TZID:Asia/Singapore
X-LIC-LOCATION:Asia/Singapore
BEGIN:STANDARD
DTSTART:19820101T010000
RRULE:FREQ=YEARLY;BYDAY=1FR;BYMONTH=1
TZNAME:+08
TZOFFSETFROM:+0900
TZOFFSETTO:+0800
END:STANDARD
END:VTIMEZONE
BEGIN:VEVENT
DESCRIPTION:\nEvent link: https://Hubud.spaces.nexudus.com/en/events/view/9
 48972024/bali-bungkus--html--css-for-beginners\n
DTEND;TZID=Asia/Singapore:20190328T140000
DTSTAMP:20260423T012656Z
DTSTART;TZID=Asia/Singapore:20190328T123000
LOCATION:Hubud
SEQUENCE:0
SUMMARY:Bali Bungkus: HTML/ CSS for beginners
UID:5f1695c5-10f9-4ee7-99e7-7dcf2174b70a
END:VEVENT
END:VCALENDAR
