BEGIN:VCALENDAR
PRODID:Nexudus
VERSION:2.0
BEGIN:VTIMEZONE
TZID:Asia/Singapore
X-LIC-LOCATION:Asia/Singapore
BEGIN:STANDARD
DTSTART:19820101T010000
RRULE:FREQ=YEARLY;BYDAY=1FR;BYMONTH=1
TZNAME:+08
TZOFFSETFROM:+0900
TZOFFSETTO:+0800
END:STANDARD
END:VTIMEZONE
BEGIN:VEVENT
DESCRIPTION:\nEvent link: https://Hubud.spaces.nexudus.com/en/events/view/9
 92321436/skill-share--articulate-your-message-in-short-format\n
DTEND;TZID=Asia/Singapore:20190430T183000
DTSTAMP:20260423T010357Z
DTSTART;TZID=Asia/Singapore:20190430T173000
LOCATION:Hubud
SEQUENCE:0
SUMMARY:Skill Share: Articulate Your Message in Short Format
UID:ca513c28-392a-4f01-bdb2-a278e41c07ba
END:VEVENT
END:VCALENDAR
