BEGIN:VCALENDAR
PRODID:Nexudus
VERSION:2.0
BEGIN:VTIMEZONE
TZID:Asia/Singapore
X-LIC-LOCATION:Asia/Singapore
BEGIN:STANDARD
DTSTART:19820101T010000
RRULE:FREQ=YEARLY;BYDAY=1FR;BYMONTH=1
TZNAME:+08
TZOFFSETFROM:+0900
TZOFFSETTO:+0800
END:STANDARD
END:VTIMEZONE
BEGIN:VEVENT
DESCRIPTION:\nEvent link: https://Hubud.spaces.nexudus.com/en/events/view/9
 98049055/skill-share--self-publishing-crash-course\n
DTEND;TZID=Asia/Singapore:20190507T183000
DTSTAMP:20260422T222118Z
DTSTART;TZID=Asia/Singapore:20190507T173000
LOCATION:Hubud
SEQUENCE:0
SUMMARY:Skill Share: Self-Publishing Crash Course
UID:a8e89b95-2230-4e59-9af5-2d5f0ff7a0ec
END:VEVENT
END:VCALENDAR
