BEGIN:VCALENDAR
PRODID:Nexudus
VERSION:2.0
BEGIN:VTIMEZONE
TZID:Asia/Singapore
X-LIC-LOCATION:Asia/Singapore
BEGIN:STANDARD
DTSTART:19820101T010000
RRULE:FREQ=YEARLY;BYDAY=1FR;BYMONTH=1
TZNAME:+08
TZOFFSETFROM:+0900
TZOFFSETTO:+0800
END:STANDARD
END:VTIMEZONE
BEGIN:VEVENT
DESCRIPTION:\nEvent link: https://Hubud.spaces.nexudus.com/en/events/view/1
 013407496/skill-share--how-chains-will-set-us-free\n
DTEND;TZID=Asia/Singapore:20190514T183000
DTSTAMP:20260422T234433Z
DTSTART;TZID=Asia/Singapore:20190514T173000
LOCATION:Hubud
SEQUENCE:0
SUMMARY:Skill Share: How Chains Will Set Us Free
UID:e11b8ed0-ec94-404f-8264-84b2a722e2c1
END:VEVENT
END:VCALENDAR
