BEGIN:VCALENDAR
PRODID:Nexudus
VERSION:2.0
BEGIN:VTIMEZONE
TZID:Asia/Singapore
X-LIC-LOCATION:Asia/Singapore
BEGIN:STANDARD
DTSTART:19820101T010000
RRULE:FREQ=YEARLY;BYDAY=1FR;BYMONTH=1
TZNAME:+08
TZOFFSETFROM:+0900
TZOFFSETTO:+0800
END:STANDARD
END:VTIMEZONE
BEGIN:VEVENT
DESCRIPTION:\nEvent link: https://Hubud.spaces.nexudus.com/en/events/view/1
 113774666/skill-share--landing-page---newsletter-optimization\n
DTEND;TZID=Asia/Singapore:20190730T183000
DTSTAMP:20260422T235230Z
DTSTART;TZID=Asia/Singapore:20190730T173000
LOCATION:Hubud
SEQUENCE:0
SUMMARY:Skill Share: Landing Page & Newsletter Optimization
UID:97fdb7bd-6fc6-4889-a517-e5e833512810
END:VEVENT
END:VCALENDAR
