BEGIN:VCALENDAR
PRODID:Nexudus
VERSION:2.0
BEGIN:VTIMEZONE
TZID:Asia/Singapore
X-LIC-LOCATION:Asia/Singapore
BEGIN:STANDARD
DTSTART:19820101T010000
RRULE:FREQ=YEARLY;BYDAY=1FR;BYMONTH=1
TZNAME:+08
TZOFFSETFROM:+0900
TZOFFSETTO:+0800
END:STANDARD
END:VTIMEZONE
BEGIN:VEVENT
DESCRIPTION:\nEvent link: https://Hubud.spaces.nexudus.com/en/events/view/1
 114240127/hubud-social-impact--inspire-indonesian-kids-to-live-sustainably
 \n
DTEND;TZID=Asia/Singapore:20190729T183000
DTSTAMP:20260425T124855Z
DTSTART;TZID=Asia/Singapore:20190729T173000
LOCATION:Hubud
SEQUENCE:0
SUMMARY:Hubud Social Impact: Inspire Indonesian Kids to Live Sustainably
UID:dbbbda47-e4fb-4607-8a64-09801b6084ef
END:VEVENT
END:VCALENDAR
