BEGIN:VCALENDAR
PRODID:Nexudus
VERSION:2.0
BEGIN:VTIMEZONE
TZID:Asia/Singapore
X-LIC-LOCATION:Asia/Singapore
BEGIN:STANDARD
DTSTART:19820101T010000
RRULE:FREQ=YEARLY;BYDAY=1FR;BYMONTH=1
TZNAME:+08
TZOFFSETFROM:+0900
TZOFFSETTO:+0800
END:STANDARD
END:VTIMEZONE
BEGIN:VEVENT
DESCRIPTION:\nEvent link: https://Hubud.spaces.nexudus.com/en/events/view/1
 115076102/hubud-new-members-orientation\n
DTEND;TZID=Asia/Singapore:20190730T113000
DTSTAMP:20260422T221957Z
DTSTART;TZID=Asia/Singapore:20190730T103000
LOCATION:Hubud
SEQUENCE:0
SUMMARY:Hubud New Members Orientation
UID:35107efc-9938-4eb1-84be-3c6d489b4c64
END:VEVENT
END:VCALENDAR
