BEGIN:VCALENDAR
PRODID:Nexudus
VERSION:2.0
BEGIN:VTIMEZONE
TZID:Asia/Singapore
X-LIC-LOCATION:Asia/Singapore
BEGIN:STANDARD
DTSTART:19820101T010000
RRULE:FREQ=YEARLY;BYDAY=1FR;BYMONTH=1
TZNAME:+08
TZOFFSETFROM:+0900
TZOFFSETTO:+0800
END:STANDARD
END:VTIMEZONE
BEGIN:VEVENT
DESCRIPTION:\nEvent link: https://Hubud.spaces.nexudus.com/en/events/view/1
 115076109/hubud-new-members-orientation\n
DTEND;TZID=Asia/Singapore:20190917T113000
DTSTAMP:20260422T222057Z
DTSTART;TZID=Asia/Singapore:20190917T103000
LOCATION:Hubud
SEQUENCE:0
SUMMARY:Hubud New Members Orientation
UID:150f75df-6e8e-4eeb-b7f7-85479f595251
END:VEVENT
END:VCALENDAR
