BEGIN:VCALENDAR
PRODID:Nexudus
VERSION:2.0
BEGIN:VTIMEZONE
TZID:Asia/Singapore
X-LIC-LOCATION:Asia/Singapore
BEGIN:STANDARD
DTSTART:19820101T010000
RRULE:FREQ=YEARLY;BYDAY=1FR;BYMONTH=1
TZNAME:+08
TZOFFSETFROM:+0900
TZOFFSETTO:+0800
END:STANDARD
END:VTIMEZONE
BEGIN:VEVENT
DESCRIPTION:\nEvent link: https://Hubud.spaces.nexudus.com/en/events/view/1
 126210085/skill-share--diy-web-development\n
DTEND;TZID=Asia/Singapore:20190813T183000
DTSTAMP:20260422T221419Z
DTSTART;TZID=Asia/Singapore:20190813T173000
LOCATION:Hubud
SEQUENCE:0
SUMMARY:Skill Share: DIY Web Development
UID:9815e146-8318-4080-81ce-58704c679e0d
END:VEVENT
END:VCALENDAR
