BEGIN:VCALENDAR
PRODID:Nexudus
VERSION:2.0
BEGIN:VTIMEZONE
TZID:Asia/Singapore
X-LIC-LOCATION:Asia/Singapore
BEGIN:STANDARD
DTSTART:19820101T010000
RRULE:FREQ=YEARLY;BYDAY=1FR;BYMONTH=1
TZNAME:+08
TZOFFSETFROM:+0900
TZOFFSETTO:+0800
END:STANDARD
END:VTIMEZONE
BEGIN:VEVENT
DESCRIPTION:\nEvent link: https://Hubud.spaces.nexudus.com/en/events/view/1
 132214097/the-3p-s-to-achieving-everything-that-you-want\n
DTEND;TZID=Asia/Singapore:20190821T183000
DTSTAMP:20260423T000117Z
DTSTART;TZID=Asia/Singapore:20190821T173000
LOCATION:Hubud
SEQUENCE:0
SUMMARY:The 3P's to Achieving Everything That You Want
UID:84e9c71b-7dc0-414c-b580-e035e89ce744
END:VEVENT
END:VCALENDAR
