BEGIN:VCALENDAR
PRODID:Nexudus
VERSION:2.0
BEGIN:VTIMEZONE
TZID:Asia/Singapore
X-LIC-LOCATION:Asia/Singapore
BEGIN:STANDARD
DTSTART:19820101T010000
RRULE:FREQ=YEARLY;BYDAY=1FR;BYMONTH=1
TZNAME:+08
TZOFFSETFROM:+0900
TZOFFSETTO:+0800
END:STANDARD
END:VTIMEZONE
BEGIN:VEVENT
DESCRIPTION:\nEvent link: https://Hubud.spaces.nexudus.com/en/events/view/1
 132583495/product-design-2-0\n
DTEND;TZID=Asia/Singapore:20190820T183000
DTSTAMP:20260422T221230Z
DTSTART;TZID=Asia/Singapore:20190820T173000
LOCATION:Hubud
SEQUENCE:0
SUMMARY:Product Design 2.0
UID:dc14155f-ff92-4957-967b-4f161d34cce5
END:VEVENT
END:VCALENDAR
