BEGIN:VCALENDAR
PRODID:Nexudus
VERSION:2.0
BEGIN:VTIMEZONE
TZID:Asia/Singapore
X-LIC-LOCATION:Asia/Singapore
BEGIN:STANDARD
DTSTART:19820101T010000
RRULE:FREQ=YEARLY;BYDAY=1FR;BYMONTH=1
TZNAME:+08
TZOFFSETFROM:+0900
TZOFFSETTO:+0800
END:STANDARD
END:VTIMEZONE
BEGIN:VEVENT
DESCRIPTION:\nEvent link: https://Hubud.spaces.nexudus.com/en/events/view/1
 146243100/emotional-intelligence-for-entrepreneurs\n
DTEND;TZID=Asia/Singapore:20190909T183000
DTSTAMP:20260422T221935Z
DTSTART;TZID=Asia/Singapore:20190909T173000
LOCATION:Hubud
SEQUENCE:0
SUMMARY:Emotional Intelligence For Entrepreneurs
UID:e0fd0892-92f5-4062-8cab-3acfce1337c0
END:VEVENT
END:VCALENDAR
