BEGIN:VCALENDAR
PRODID:Nexudus
VERSION:2.0
BEGIN:VTIMEZONE
TZID:Asia/Singapore
X-LIC-LOCATION:Asia/Singapore
BEGIN:STANDARD
DTSTART:19820101T010000
RRULE:FREQ=YEARLY;BYDAY=1FR;BYMONTH=1
TZNAME:+08
TZOFFSETFROM:+0900
TZOFFSETTO:+0800
END:STANDARD
END:VTIMEZONE
BEGIN:VEVENT
DESCRIPTION:\nEvent link: https://Hubud.spaces.nexudus.com/en/events/view/1
 151980844/key-learnings--starting---running-successful-business\n
DTEND;TZID=Asia/Singapore:20191008T183000
DTSTAMP:20260422T221955Z
DTSTART;TZID=Asia/Singapore:20191008T173000
LOCATION:Hubud
SEQUENCE:0
SUMMARY:Key Learnings: Starting & Running Successful Business
UID:86f05907-60a7-4b3a-9707-e37eb716ac07
END:VEVENT
END:VCALENDAR
