BEGIN:VCALENDAR
PRODID:Nexudus
VERSION:2.0
BEGIN:VTIMEZONE
TZID:Asia/Singapore
X-LIC-LOCATION:Asia/Singapore
BEGIN:STANDARD
DTSTART:19820101T010000
RRULE:FREQ=YEARLY;BYDAY=1FR;BYMONTH=1
TZNAME:+08
TZOFFSETFROM:+0900
TZOFFSETTO:+0800
END:STANDARD
END:VTIMEZONE
BEGIN:VEVENT
DESCRIPTION:\nEvent link: https://Hubud.spaces.nexudus.com/en/events/view/1
 173770642/present-like-a-pro\n
DTEND;TZID=Asia/Singapore:20191021T183000
DTSTAMP:20260422T221533Z
DTSTART;TZID=Asia/Singapore:20191021T173000
LOCATION:Hubud
SEQUENCE:0
SUMMARY:Present Like a Pro
UID:99a77925-023b-412e-bcb1-b3ebeb6ef3d7
END:VEVENT
END:VCALENDAR
