BEGIN:VCALENDAR
PRODID:Nexudus
VERSION:2.0
BEGIN:VTIMEZONE
TZID:Asia/Singapore
X-LIC-LOCATION:Asia/Singapore
BEGIN:STANDARD
DTSTART:19820101T010000
RRULE:FREQ=YEARLY;BYDAY=1FR;BYMONTH=1
TZNAME:+08
TZOFFSETFROM:+0900
TZOFFSETTO:+0800
END:STANDARD
END:VTIMEZONE
BEGIN:VEVENT
DESCRIPTION:\nEvent link: https://Hubud.spaces.nexudus.com/en/events/view/1
 177795637/how-to-be-a-conscious-business\n
DTEND;TZID=Asia/Singapore:20191106T183000
DTSTAMP:20260422T221935Z
DTSTART;TZID=Asia/Singapore:20191106T173000
LOCATION:Hubud
SEQUENCE:0
SUMMARY:How to be a Conscious Business
UID:320193d3-29a2-44d0-8b50-9b920c4f6925
END:VEVENT
END:VCALENDAR
