BEGIN:VCALENDAR
PRODID:Nexudus
VERSION:2.0
BEGIN:VTIMEZONE
TZID:Asia/Singapore
X-LIC-LOCATION:Asia/Singapore
BEGIN:STANDARD
DTSTART:19820101T010000
RRULE:FREQ=YEARLY;BYDAY=1FR;BYMONTH=1
TZNAME:+08
TZOFFSETFROM:+0900
TZOFFSETTO:+0800
END:STANDARD
END:VTIMEZONE
BEGIN:VEVENT
DESCRIPTION:\nEvent link: https://Hubud.spaces.nexudus.com/en/events/view/1
 178626516/painful-scars-of-wisdom\n
DTEND;TZID=Asia/Singapore:20191028T183000
DTSTAMP:20260422T221958Z
DTSTART;TZID=Asia/Singapore:20191028T173000
LOCATION:Hubud
SEQUENCE:0
SUMMARY:Painful Scars of Wisdom
UID:7c130aa9-ed90-40a3-bb77-9d49f90fdd45
END:VEVENT
END:VCALENDAR
