BEGIN:VCALENDAR
PRODID:Nexudus
VERSION:2.0
BEGIN:VTIMEZONE
TZID:Asia/Singapore
X-LIC-LOCATION:Asia/Singapore
BEGIN:STANDARD
DTSTART:19820101T010000
RRULE:FREQ=YEARLY;BYDAY=1FR;BYMONTH=1
TZNAME:+08
TZOFFSETFROM:+0900
TZOFFSETTO:+0800
END:STANDARD
END:VTIMEZONE
BEGIN:VEVENT
DESCRIPTION:\nEvent link: https://Hubud.spaces.nexudus.com/en/events/view/1
 190072997/inner-work-for-your-bottom-line\n
DTEND;TZID=Asia/Singapore:20191118T183000
DTSTAMP:20260422T221236Z
DTSTART;TZID=Asia/Singapore:20191118T173000
LOCATION:Hubud
SEQUENCE:0
SUMMARY:Inner Work For Your Bottom Line
UID:08d13fd4-2ec7-44ed-a74c-81a0665733d5
END:VEVENT
END:VCALENDAR
