BEGIN:VCALENDAR
PRODID:Nexudus
VERSION:2.0
BEGIN:VTIMEZONE
TZID:Asia/Singapore
X-LIC-LOCATION:Asia/Singapore
BEGIN:STANDARD
DTSTART:19820101T010000
RRULE:FREQ=YEARLY;BYDAY=1FR;BYMONTH=1
TZNAME:+08
TZOFFSETFROM:+0900
TZOFFSETTO:+0800
END:STANDARD
END:VTIMEZONE
BEGIN:VEVENT
DESCRIPTION:\nEvent link: https://Hubud.spaces.nexudus.com/en/events/view/1
 222281176/evolution-of-ai-and-why-it-matters\n
DTEND;TZID=Asia/Singapore:20191223T183000
DTSTAMP:20260422T233715Z
DTSTART;TZID=Asia/Singapore:20191223T173000
LOCATION:Hubud
SEQUENCE:0
SUMMARY:Evolution of AI and Why It Matters
UID:f9926c2a-d1dc-4098-baa5-b8068c8ec15d
END:VEVENT
END:VCALENDAR
