BEGIN:VCALENDAR
PRODID:Nexudus
VERSION:2.0
BEGIN:VTIMEZONE
TZID:Asia/Singapore
X-LIC-LOCATION:Asia/Singapore
BEGIN:STANDARD
DTSTART:19820101T010000
RRULE:FREQ=YEARLY;BYDAY=1FR;BYMONTH=1
TZNAME:+08
TZOFFSETFROM:+0900
TZOFFSETTO:+0800
END:STANDARD
END:VTIMEZONE
BEGIN:VEVENT
DESCRIPTION:\nEvent link: https://Hubud.spaces.nexudus.com/en/events/view/1
 237770602/everyone-has-a-story\n
DTEND;TZID=Asia/Singapore:20200122T183000
DTSTAMP:20260422T222058Z
DTSTART;TZID=Asia/Singapore:20200122T173000
LOCATION:Hubud
SEQUENCE:0
SUMMARY:Everyone Has A Story
UID:e48dc700-f034-4300-a101-0517158319d5
END:VEVENT
END:VCALENDAR
