BEGIN:VCALENDAR
PRODID:Nexudus
VERSION:2.0
BEGIN:VTIMEZONE
TZID:Asia/Singapore
X-LIC-LOCATION:Asia/Singapore
BEGIN:STANDARD
DTSTART:19820101T010000
RRULE:FREQ=YEARLY;BYDAY=1FR;BYMONTH=1
TZNAME:+08
TZOFFSETFROM:+0900
TZOFFSETTO:+0800
END:STANDARD
END:VTIMEZONE
BEGIN:VEVENT
DESCRIPTION:\nEvent link: https://Hubud.spaces.nexudus.com/en/events/view/1
 245875768/breakthrough-creativity\n
DTEND;TZID=Asia/Singapore:20200212T183000
DTSTAMP:20260422T203912Z
DTSTART;TZID=Asia/Singapore:20200212T173000
LOCATION:Hubdu
SEQUENCE:0
SUMMARY:Breakthrough Creativity
UID:60726a2c-e956-4b0c-af61-ca562480106d
END:VEVENT
END:VCALENDAR
