BEGIN:VCALENDAR
PRODID:Nexudus
VERSION:2.0
BEGIN:VTIMEZONE
TZID:Asia/Singapore
X-LIC-LOCATION:Asia/Singapore
BEGIN:STANDARD
DTSTART:19820101T010000
RRULE:FREQ=YEARLY;BYDAY=1FR;BYMONTH=1
TZNAME:+08
TZOFFSETFROM:+0900
TZOFFSETTO:+0800
END:STANDARD
END:VTIMEZONE
BEGIN:VEVENT
DESCRIPTION:\nEvent link: https://Hubud.spaces.nexudus.com/en/events/view/1
 265595369/creative-mental-models\n
DTEND;TZID=Asia/Singapore:20200311T183000
DTSTAMP:20260422T191305Z
DTSTART;TZID=Asia/Singapore:20200311T173000
LOCATION:Hubud
SEQUENCE:0
SUMMARY:Creative Mental Models
UID:ee5f9ccd-d8c9-43e2-97a4-6a6bfdfc3abc
END:VEVENT
END:VCALENDAR
