BEGIN:VCALENDAR
PRODID:Nexudus
VERSION:2.0
BEGIN:VTIMEZONE
TZID:Asia/Singapore
X-LIC-LOCATION:Asia/Singapore
BEGIN:STANDARD
DTSTART:19820101T010000
RRULE:FREQ=YEARLY;BYDAY=1FR;BYMONTH=1
TZNAME:+08
TZOFFSETFROM:+0900
TZOFFSETTO:+0800
END:STANDARD
END:VTIMEZONE
BEGIN:VEVENT
DESCRIPTION:This event is for members only. Find out more about membership 
 (including Events Only membership) at https://www.hubud.org/join/\n\nWe ar
 e all avid travelers and love discovering new places\, new faces and new c
 ultures. Our travels always have some impacts on us\, but we’re not alwa
 ys aware of the impacts of our travels.\nSitraka will share with you easy 
 and hands-on tips on how to travel Zero Waste\, by leaving no trash behind
  you or at least less trash: whether it’s “visible” or “invisible
 ” waste. Moreover\, she will also talk about how our health is closely i
 ntertwined with our sustainable choices: it’s not only for the sake of t
 he environment but for ours too!\nThis talk is for anyone who wants to lea
 rn more about Zero Waste and sustainable lifestyle in general\, with a foc
 us on travelling. \n\nWhat you'll learn:\n-	What a Zero Waste lifestyle is
 ?\n-	How to easily switch to a Zero Waste lifestyle?\n-	How to plan your Z
 ero Waste wanderlust?\n-	How to explore the world like a Zero Waste travel
 er?\n\nAbout the speaker:\nBorn in Madagascar\, Sitraka moved to France in
  2002 to study Business Computing. Her wanderlust led her to different hom
 es including Vancouver Canada\, and lately Bangkok where she is transition
 ing from IT to the environmental field\; while starting her digital nomad 
 journey as an IT Freelancer.\nSitraka also launched Leavenotrash (http://l
 eavenotrash.com) last March: a blog about Zero Waste travelling\, the resu
 lt of her passion for travelling and Zero Waste.\nShe is on her Zero Waste
  adventure since 2016: she has embarked on a giving back/learning journey 
 by being involved with the Zero Waste Committee back in Vancouver\, and by
  volunteering for green organizations while travelling.\nEvent link: https
 ://Hubud.spaces.nexudus.com/en/events/view/627573023/skill-share--how-to-t
 ravel-zero-waste\n
DTEND;TZID=Asia/Singapore:20180619T133000
DTSTAMP:20260422T222057Z
DTSTART;TZID=Asia/Singapore:20180619T123000
LOCATION:Hubud
SEQUENCE:0
SUMMARY:Skill Share: How to travel Zero Waste
UID:e52e8375-084e-4cc3-a89c-1462725e0f02
END:VEVENT
END:VCALENDAR
